BEGIN:VCALENDAR
VERSION:2.0
PRODID:-//Turweston Parish Council//Meeting Calendar//EN
CALSCALE:GREGORIAN
METHOD:PUBLISH
BEGIN:VEVENT
UID:70641-20261110@turwestonparish.gov.uk
DTSTAMP:20260422T224207Z
DTSTART;VALUE=DATE:20261110
DTEND;VALUE=DATE:20261111
SUMMARY:Council Meeting 10th November 2026
DESCRIPTION:Full Council Meeting\nView details: https://turwestonparish.gov.uk/meetings/council-meeting-10th-november-2026/
URL:https://turwestonparish.gov.uk/meetings/council-meeting-10th-november-2026/
END:VEVENT
END:VCALENDAR
