BEGIN:VCALENDAR
VERSION:2.0
PRODID:-//Turweston Parish Council//Meeting Calendar//EN
CALSCALE:GREGORIAN
METHOD:PUBLISH
BEGIN:VEVENT
UID:70639-20260714@turwestonparish.gov.uk
DTSTAMP:20260422T222015Z
DTSTART;VALUE=DATE:20260714
DTEND;VALUE=DATE:20260715
SUMMARY:Council Meeting 14th July 2026
DESCRIPTION:Full Council Meeting\nView details: https://turwestonparish.gov.uk/meetings/council-meeting-14th-july-2026/
URL:https://turwestonparish.gov.uk/meetings/council-meeting-14th-july-2026/
END:VEVENT
END:VCALENDAR
