BEGIN:VCALENDAR
VERSION:2.0
PRODID:-//Turweston Parish Council//Meeting Calendar//EN
CALSCALE:GREGORIAN
METHOD:PUBLISH
BEGIN:VEVENT
UID:70638-20260602@turwestonparish.gov.uk
DTSTAMP:20260422T205117Z
DTSTART;VALUE=DATE:20260602
DTEND;VALUE=DATE:20260603
SUMMARY:Annual Parish Meeting 2nd June 2026
DESCRIPTION:Annual Parish Meeting\nView details: https://turwestonparish.gov.uk/meetings/annual-parish-meeting/
URL:https://turwestonparish.gov.uk/meetings/annual-parish-meeting/
END:VEVENT
END:VCALENDAR
