BEGIN:VCALENDAR
VERSION:2.0
PRODID:-//Turweston Parish Council//Meeting Calendar//EN
CALSCALE:GREGORIAN
METHOD:PUBLISH
BEGIN:VEVENT
UID:70637-20260512@turwestonparish.gov.uk
DTSTAMP:20260422T204959Z
DTSTART;VALUE=DATE:20260512
DTEND;VALUE=DATE:20260513
SUMMARY:Council Meeting 19th May 2026
DESCRIPTION:Full Council Meeting\nView details: https://turwestonparish.gov.uk/meetings/council-meeting-19th-may-2026/
URL:https://turwestonparish.gov.uk/meetings/council-meeting-19th-may-2026/
END:VEVENT
END:VCALENDAR
