BEGIN:VCALENDAR
VERSION:2.0
PRODID:-//Turweston Parish Council//Meeting Calendar//EN
CALSCALE:GREGORIAN
METHOD:PUBLISH
BEGIN:VEVENT
UID:70501-20230101@turwestonparish.gov.uk
DTSTAMP:20260423T034212Z
DTSTART;VALUE=DATE:20230101
DTEND;VALUE=DATE:20230102
SUMMARY:Full Council Meetings &#8211\\; 2023
DESCRIPTION:Full Council Meeting\nView details: https://turwestonparish.gov.uk/meetings/full-council-meetings-2023/
URL:https://turwestonparish.gov.uk/meetings/full-council-meetings-2023/
END:VEVENT
END:VCALENDAR
