BEGIN:VCALENDAR
VERSION:2.0
PRODID:-//Turweston Parish Council//Meeting Calendar//EN
CALSCALE:GREGORIAN
METHOD:PUBLISH
BEGIN:VEVENT
UID:70456-20250114@turwestonparish.gov.uk
DTSTAMP:20260423T033711Z
DTSTART;VALUE=DATE:20250114
DTEND;VALUE=DATE:20250115
SUMMARY:Full Council Meeting &#8211\\; 14 January 2025
DESCRIPTION:Full Council Meeting\nView details: https://turwestonparish.gov.uk/meetings/full-council-meeting-14-january-2025/
URL:https://turwestonparish.gov.uk/meetings/full-council-meeting-14-january-2025/
END:VEVENT
END:VCALENDAR
